BEGIN:VCALENDAR
VERSION:2.0
METHOD:PUBLISH
PRODID:-//imacoda.com//SPD-Web-O-Mat//EN
CALSCALE:GREGORIAN
BEGIN:VTIMEZONE
TZID:Europe/Berlin
BEGIN:DAYLIGHT
TZOFFSETFROM:+0100
RRULE:FREQ=YEARLY;BYMONTH=3;BYDAY=-1SU
DTSTART:19810329T020000
TZNAME:MESZ
TZOFFSETTO:+0200
END:DAYLIGHT
BEGIN:STANDARD
TZOFFSETFROM:+0200
RRULE:FREQ=YEARLY;BYMONTH=10;BYDAY=-1SU
DTSTART:19961027T030000
TZNAME:MEZ
TZOFFSETTO:+0100
END:STANDARD
END:VTIMEZONE
BEGIN:VEVENT
UID:20200107T145451Z-00000504197-LULU@www.bayernspd.de
CREATED:20200107T145451Z
LAST-MODIFIED:20200107T145451Z
DTSTAMP:20200107T145451Z
TRANSP:TRANSPARENT
DTSTART;TZID=Europe/Berlin:20200122T183000
DTEND;TZID=Europe/Berlin:20200122T203000
SUMMARY:Fraktion vor Ort-Veranstaltung zum Thema "Mehr Fachkräfte brauch
 t das Land" mit Marianne Schieder\, MdB
LOCATION:Hotel-Gaststätte Pirzer (Saal)\, Brauhausstraße 3\, 93149 Nitte
 nau
DESCRIPTION:Termin im Web (SPD-Landesgruppe Bayern):\nhttps://spd-landes
 gruppe-bayern.de/termine/?id=504197
END:VEVENT
END:VCALENDAR
